BEGIN:VCALENDAR
VERSION:2.0
PRODID:-//321 Events - ECPv6.8.1//NONSGML v1.0//EN
CALSCALE:GREGORIAN
METHOD:PUBLISH
X-WR-CALNAME:321 Events
X-ORIGINAL-URL:https://321eventhub.com
X-WR-CALDESC:Events for 321 Events
REFRESH-INTERVAL;VALUE=DURATION:PT1H
X-Robots-Tag:noindex
X-PUBLISHED-TTL:PT1H
BEGIN:VTIMEZONE
TZID:UTC
BEGIN:STANDARD
TZOFFSETFROM:+0000
TZOFFSETTO:+0000
TZNAME:UTC
DTSTART:20240101T000000
END:STANDARD
END:VTIMEZONE
BEGIN:VEVENT
DTSTART;TZID=UTC:20241206T210000
DTEND;TZID=UTC:20241207T040000
DTSTAMP:20260425T160224
CREATED:20241103T111553Z
LAST-MODIFIED:20241104T230249Z
UID:27266-1733518800-1733544000@321eventhub.com
SUMMARY:DECADE OF DESIRE -The Roaring 20s
DESCRIPTION:Ready to Roar in 1920s Style? \nStep into the glitz\, glamour\, and jazz of the Roaring 20s!\nPicture yourself at a speakeasy\, surrounded by flappers\, pearls\, and vintage charm.\nAre you ready for an unforgettable night of Gatsby vibes and elegance? \nDress Code: Flapper dresses\, suspenders\, pearls\, and fedoras.
URL:https://321eventhub.com/event/decade-of-desire-the-roaring-20s/
LOCATION:TriStone Hotel and Apartment Beach Resort\, Raliatu Olorunfunmike st\,aja\,okun\, Abraham Adesanya\, Lagos\, Nigeria
CATEGORIES:Decade-Party
ATTACH;FMTTYPE=image/jpeg:https://321eventhub.com/wp-content/uploads/2024/11/41779a3f-1def-404c-96c0-c908f26594c2.jpg
ORGANIZER;CN="3SOME.ENT":MAILTO:t3some.entertainment@gmail.com
END:VEVENT
BEGIN:VEVENT
DTSTART;TZID=UTC:20240713T200000
DTEND;TZID=UTC:20240713T233000
DTSTAMP:20260425T160224
CREATED:20240711T130552Z
LAST-MODIFIED:20240711T130552Z
UID:27207-1720900800-1720913400@321eventhub.com
SUMMARY:3Some Opening Party
DESCRIPTION:This is the opening Party for 3some Entertainment
URL:https://321eventhub.com/event/3some-opening-party/
LOCATION:BlueSea Hotel \,Lounge and Apartment\, 1\, Cocoa Industry Ltd\, Via\, Akilo Ikeja\, Lagos\, Lagos\, 101233\, Nigeria
CATEGORIES:BlockParty
ATTACH;FMTTYPE=image/jpeg:https://321eventhub.com/wp-content/uploads/2021/10/drinks-blog-img-2.jpg
ORGANIZER;CN="3SOME.ENT":MAILTO:t3some.entertainment@gmail.com
END:VEVENT
END:VCALENDAR