BEGIN:VCALENDAR
VERSION:2.0
PRODID:-//321 Events - ECPv6.8.1//NONSGML v1.0//EN
CALSCALE:GREGORIAN
METHOD:PUBLISH
X-WR-CALNAME:321 Events
X-ORIGINAL-URL:https://321eventhub.com
X-WR-CALDESC:Events for 321 Events
REFRESH-INTERVAL;VALUE=DURATION:PT1H
X-Robots-Tag:noindex
X-PUBLISHED-TTL:PT1H
BEGIN:VTIMEZONE
TZID:UTC
BEGIN:STANDARD
TZOFFSETFROM:+0000
TZOFFSETTO:+0000
TZNAME:UTC
DTSTART:20250101T000000
END:STANDARD
END:VTIMEZONE
BEGIN:VEVENT
DTSTART;TZID=UTC:20250331T220000
DTEND;TZID=UTC:20250401T060000
DTSTAMP:20260425T121242
CREATED:20250110T130706Z
LAST-MODIFIED:20250324T113333Z
UID:27280-1743458400-1743487200@321eventhub.com
SUMMARY:MONTHLY AFFAIRS- Sensual Casino Party.
DESCRIPTION: MONTHLY AFFAIR: THE SENSUAL CASINO EXPERIENCE \nWhere Success Meets Seduction\, and Pleasure is the Ultimate Reward! \n EVERY LAST FRIDAY OF THE MONTH! \nAfter the long hours\, the deals closed\, and the milestones achieved\, you deserve a night that celebrates your energy\, ambition\, and passion. \nWelcome to MONTHLY AFFAIR – The Sensual Casino Experience!\n A night of high-class indulgence\, where charm is currency\, and every interaction holds the promise of excitement. \n WHY THIS SHOULD BE YOUR MONTHLY ESCAPE \n UNWIND IN STYLE – This is where the city’s elite gather to let go and indulge in the finest pleasures.\n CONNECT & ELEVATE – Mingle with like-minded\, confident individuals who appreciate the art of fun and exclusivity.\n PLAY & EARN – Introducing the 3some Token Experience – where every move can turn into cash or pleasure!\n EXCLUSIVE ACCESS – A private\, premium event with carefully curated entertainment\, luxury\, and thrill. \n THE 3SOME TOKEN EXPERIENCE \nAt Monthly Affair\, flirtation\, seduction\, and engagement are the game. \n LADIES – THE GOAL IS SIMPLE!\nCollect as many tokens as you can from the men in the room. The more you collect\, the more valuable they become! \n MEN – YOUR TOKENS HOLD POWER!\nExchange them for sensual experiences\, private entertainment\, and VIP indulgences. \n The More You Play\, The More You Gain!  \n YOUR LAST FRIDAY TRADITION! \nThis isn’t just a party—it’s a lifestyle. A night to reward yourself\, let loose\, and dive into an experience you won’t forget. \n Your month isn’t complete without it.\n Come play. Come win. Come experience Monthly Affair!
URL:https://321eventhub.com/event/map/
LOCATION:BlueSea Hotel \,Lounge and Apartment\, 1\, Cocoa Industry Ltd\, Via\, Akilo Ikeja\, Lagos\, Lagos\, 101233\, Nigeria
CATEGORIES:Monthly Affairs
ATTACH;FMTTYPE=image/jpeg:https://321eventhub.com/wp-content/uploads/2025/01/march.jpg
ORGANIZER;CN="3SOME.ENT":MAILTO:t3some.entertainment@gmail.com
END:VEVENT
END:VCALENDAR