BEGIN:VCALENDAR
VERSION:2.0
PRODID:-//321 Events - ECPv6.8.1//NONSGML v1.0//EN
CALSCALE:GREGORIAN
METHOD:PUBLISH
X-WR-CALNAME:321 Events
X-ORIGINAL-URL:https://321eventhub.com
X-WR-CALDESC:Events for 321 Events
REFRESH-INTERVAL;VALUE=DURATION:PT1H
X-Robots-Tag:noindex
X-PUBLISHED-TTL:PT1H
BEGIN:VTIMEZONE
TZID:UTC
BEGIN:STANDARD
TZOFFSETFROM:+0000
TZOFFSETTO:+0000
TZNAME:UTC
DTSTART:20240101T000000
END:STANDARD
END:VTIMEZONE
BEGIN:VEVENT
DTSTART;TZID=UTC:20250331T220000
DTEND;TZID=UTC:20250401T060000
DTSTAMP:20260425T123345
CREATED:20250110T130706Z
LAST-MODIFIED:20250324T113333Z
UID:27280-1743458400-1743487200@321eventhub.com
SUMMARY:MONTHLY AFFAIRS- Sensual Casino Party.
DESCRIPTION: MONTHLY AFFAIR: THE SENSUAL CASINO EXPERIENCE \nWhere Success Meets Seduction\, and Pleasure is the Ultimate Reward! \n EVERY LAST FRIDAY OF THE MONTH! \nAfter the long hours\, the deals closed\, and the milestones achieved\, you deserve a night that celebrates your energy\, ambition\, and passion. \nWelcome to MONTHLY AFFAIR – The Sensual Casino Experience!\n A night of high-class indulgence\, where charm is currency\, and every interaction holds the promise of excitement. \n WHY THIS SHOULD BE YOUR MONTHLY ESCAPE \n UNWIND IN STYLE – This is where the city’s elite gather to let go and indulge in the finest pleasures.\n CONNECT & ELEVATE – Mingle with like-minded\, confident individuals who appreciate the art of fun and exclusivity.\n PLAY & EARN – Introducing the 3some Token Experience – where every move can turn into cash or pleasure!\n EXCLUSIVE ACCESS – A private\, premium event with carefully curated entertainment\, luxury\, and thrill. \n THE 3SOME TOKEN EXPERIENCE \nAt Monthly Affair\, flirtation\, seduction\, and engagement are the game. \n LADIES – THE GOAL IS SIMPLE!\nCollect as many tokens as you can from the men in the room. The more you collect\, the more valuable they become! \n MEN – YOUR TOKENS HOLD POWER!\nExchange them for sensual experiences\, private entertainment\, and VIP indulgences. \n The More You Play\, The More You Gain!  \n YOUR LAST FRIDAY TRADITION! \nThis isn’t just a party—it’s a lifestyle. A night to reward yourself\, let loose\, and dive into an experience you won’t forget. \n Your month isn’t complete without it.\n Come play. Come win. Come experience Monthly Affair!
URL:https://321eventhub.com/event/map/
LOCATION:BlueSea Hotel \,Lounge and Apartment\, 1\, Cocoa Industry Ltd\, Via\, Akilo Ikeja\, Lagos\, Lagos\, 101233\, Nigeria
CATEGORIES:Monthly Affairs
ATTACH;FMTTYPE=image/jpeg:https://321eventhub.com/wp-content/uploads/2025/01/march.jpg
ORGANIZER;CN="3SOME.ENT":MAILTO:t3some.entertainment@gmail.com
END:VEVENT
BEGIN:VEVENT
DTSTART;TZID=UTC:20241228T213000
DTEND;TZID=UTC:20241228T213000
DTSTAMP:20260425T123345
CREATED:20241118T094228Z
LAST-MODIFIED:20241205T180103Z
UID:27349-1735421400-1735421400@321eventhub.com
SUMMARY:DECADE OF DESIRE- Black Sheep Midnight Fantasy Party
DESCRIPTION:The grand finale\, a futuristic celebration with immersive light shows\, avant-garde fashion\, and interactive fantasy entertainment.
URL:https://321eventhub.com/event/decade-of-desire-black-sheep-midnight-fantasy-party/
LOCATION:TriStone Hotel and Apartment Beach Resort\, Raliatu Olorunfunmike st\,aja\,okun\, Abraham Adesanya\, Lagos\, Nigeria
ATTACH;FMTTYPE=image/jpeg:https://321eventhub.com/wp-content/uploads/2024/11/unnamed.jpg
END:VEVENT
BEGIN:VEVENT
DTSTART;TZID=UTC:20241228T210000
DTEND;TZID=UTC:20241229T040000
DTSTAMP:20260425T123345
CREATED:20241105T002554Z
LAST-MODIFIED:20241105T002702Z
UID:27328-1735419600-1735444800@321eventhub.com
SUMMARY:DECADE OF DESIRE-Grand Finale: Decades Mashup NYE
DESCRIPTION:Which Decade Will You Represent for NYE? \nAll the decades in one epic night—are you ready to mix it up and party like it’s every era? Midnight fireworks and beats from every decade will carry us into 2024 in true time-traveling style. How will you ring in the New Year? \nDress Code: Pick your favorite decade and mix it up!
URL:https://321eventhub.com/event/decade-of-desire-grand-finale-decades-mashup-nye/
LOCATION:TriStone Hotel and Apartment Beach Resort\, Raliatu Olorunfunmike st\,aja\,okun\, Abraham Adesanya\, Lagos\, Nigeria
CATEGORIES:Decade-Party
ATTACH;FMTTYPE=image/jpeg:https://321eventhub.com/wp-content/uploads/2024/11/1cd5815b-ae57-40b4-9d54-ac6e02edc023.jpg
END:VEVENT
BEGIN:VEVENT
DTSTART;TZID=UTC:20241227T213000
DTEND;TZID=UTC:20241227T213000
DTSTAMP:20260425T123345
CREATED:20241117T181550Z
LAST-MODIFIED:20241223T172925Z
UID:27343-1735335000-1735335000@321eventhub.com
SUMMARY:DECADE OF DESIRE- Black Sheep Mask Party
DESCRIPTION:Velvet Dreams – A mysterious\, sensual evening featuring masked dances\, ambient lighting\, and enchanting performances.
URL:https://321eventhub.com/event/decade-of-desire-black-sheep-mask-party/
LOCATION:TriStone Hotel and Apartment Beach Resort\, Raliatu Olorunfunmike st\,aja\,okun\, Abraham Adesanya\, Lagos\, Nigeria
ATTACH;FMTTYPE=image/jpeg:https://321eventhub.com/wp-content/uploads/2024/11/unnamed.jpg
ORGANIZER;CN="3SOME.ENT":MAILTO:t3some.entertainment@gmail.com
END:VEVENT
BEGIN:VEVENT
DTSTART;TZID=UTC:20241227T210000
DTEND;TZID=UTC:20241228T040000
DTSTAMP:20260425T123345
CREATED:20241105T001641Z
LAST-MODIFIED:20241105T001641Z
UID:27322-1735333200-1735358400@321eventhub.com
SUMMARY:DECADE OF DESIRE -The Millennial 2000s
DESCRIPTION:Can You Throw It Back to Y2K? \nPop-punk\, low-rise jeans\, and tech nostalgia—are you ready for a blast from the early 2000s? \nWhether you loved MySpace or rocked frosted tips\, this night will take you straight back to Y2K. \nDress Code: Trucker hats\, tracksuits\, and frosted tips.
URL:https://321eventhub.com/event/decade-of-desire-the-millennial-2000s/
LOCATION:TriStone Hotel and Apartment Beach Resort\, Raliatu Olorunfunmike st\,aja\,okun\, Abraham Adesanya\, Lagos\, Nigeria
ATTACH;FMTTYPE=image/jpeg:https://321eventhub.com/wp-content/uploads/2024/11/379d5fc8-06b5-4e14-a610-b461d95b8410.jpg
END:VEVENT
BEGIN:VEVENT
DTSTART;TZID=UTC:20241226T213000
DTEND;TZID=UTC:20241227T040000
DTSTAMP:20260425T123345
CREATED:20241117T174846Z
LAST-MODIFIED:20241223T173243Z
UID:27335-1735248600-1735272000@321eventhub.com
SUMMARY:DECADE OF DESIRE- Black Sheep Party Old school.
DESCRIPTION:Vintage Seduction – A luxurious night inspired by the elegance of the old school\, with classic cocktails\, live jazz\, and a sophisticated dress code.
URL:https://321eventhub.com/event/decade-of-desire-black-sheep-party/
LOCATION:TriStone Hotel and Apartment Beach Resort\, Raliatu Olorunfunmike st\,aja\,okun\, Abraham Adesanya\, Lagos\, Nigeria
ATTACH;FMTTYPE=image/jpeg:https://321eventhub.com/wp-content/uploads/2024/11/unnamed.jpg
END:VEVENT
BEGIN:VEVENT
DTSTART;TZID=UTC:20241226T210000
DTEND;TZID=UTC:20241227T040000
DTSTAMP:20260425T123345
CREATED:20241105T000637Z
LAST-MODIFIED:20241105T000644Z
UID:27316-1735246800-1735272000@321eventhub.com
SUMMARY:DECADE OF DESIRE -The Grunge 90s
DESCRIPTION:Feeling Rebellious Enough for the 90s? \nFlannel shirts\, grunge vibes\, and that 90s attitude—are you ready to relive the rebellious decade of alternative rock? \nThis night is for the rebels who want to relive the angst and freedom of the 90s. \nDress Code: Flannel shirts\, combat boots\, and crop tops.
URL:https://321eventhub.com/event/decade-of-desire-the-grunge-90s/
LOCATION:TriStone Hotel and Apartment Beach Resort\, Raliatu Olorunfunmike st\,aja\,okun\, Abraham Adesanya\, Lagos\, Nigeria
ATTACH;FMTTYPE=image/jpeg:https://321eventhub.com/wp-content/uploads/2024/11/3d3a31c7-0c66-443e-aeca-0dff0b75ceb6.jpg
END:VEVENT
BEGIN:VEVENT
DTSTART;TZID=UTC:20241221T210000
DTEND;TZID=UTC:20241222T040000
DTSTAMP:20260425T123345
CREATED:20241104T235644Z
LAST-MODIFIED:20241104T235644Z
UID:27310-1734814800-1734840000@321eventhub.com
SUMMARY:DECADE OF DESIRE-The Radical 80s
DESCRIPTION:How Big Can Your 80s Be? \nNeon lights\, big hair\, and arcade games await you! Will you go all out with bold colors\, flashy accessories\, and that classic 80s energy? Time to get radical—don’t hold back! \nDress Code: Neon windbreakers\, leg warmers\, and acid-wash jeans.
URL:https://321eventhub.com/event/decade-of-desire-the-radical-80s/
LOCATION:TriStone Hotel and Apartment Beach Resort\, Raliatu Olorunfunmike st\,aja\,okun\, Abraham Adesanya\, Lagos\, Nigeria
ATTACH;FMTTYPE=image/jpeg:https://321eventhub.com/wp-content/uploads/2024/11/d7dbf540-6f4f-439b-bedb-b0487ae1f2cb.jpg
END:VEVENT
BEGIN:VEVENT
DTSTART;TZID=UTC:20241220T210000
DTEND;TZID=UTC:20241221T040000
DTSTAMP:20260425T123345
CREATED:20241104T234030Z
LAST-MODIFIED:20241104T234214Z
UID:27304-1734728400-1734753600@321eventhub.com
SUMMARY:DECADE OF DESIRE -The Funky 70s
DESCRIPTION:Ready for a Disco Inferno?   \nDust off your platform shoes and jump into the disco craze! With the funk turned all the way up\, can you keep up with the beats and bust those 70s moves? Let’s see you shine under the mirror ball! \nDress Code: Disco suits\, jumpsuits\, and afros.
URL:https://321eventhub.com/event/decade-of-desire-the-funky-70s/
LOCATION:TriStone Hotel and Apartment Beach Resort\, Raliatu Olorunfunmike st\,aja\,okun\, Abraham Adesanya\, Lagos\, Nigeria
ATTACH;FMTTYPE=image/jpeg:https://321eventhub.com/wp-content/uploads/2024/11/0318ade7-1e0e-48fb-8de3-daa23cdcdd83.jpg
END:VEVENT
BEGIN:VEVENT
DTSTART;TZID=UTC:20241214T210000
DTEND;TZID=UTC:20241215T040000
DTSTAMP:20260425T123345
CREATED:20241104T232112Z
LAST-MODIFIED:20241104T232534Z
UID:27298-1734210000-1734235200@321eventhub.com
SUMMARY:DECADE OF DESIRE-The Swinging 60s
DESCRIPTION:How Groovy Are You Feeling for the 60s? \nIt’s time to embrace peace\, love\, and tie-dye! Will you be the life of this hippie haven or show off your mod flair? Let the good vibes roll in a night filled with freedom and fun. \nDress Code: Bell bottoms\, tie-dye\, mod dresses.
URL:https://321eventhub.com/event/decade-of-desire-the-swinging-60s/
LOCATION:TriStone Hotel and Apartment Beach Resort\, Raliatu Olorunfunmike st\,aja\,okun\, Abraham Adesanya\, Lagos\, Nigeria
ATTACH;FMTTYPE=image/jpeg:https://321eventhub.com/wp-content/uploads/2024/11/3381a74c-46f8-41e2-994a-07a47543830e.jpg
END:VEVENT
BEGIN:VEVENT
DTSTART;TZID=UTC:20241213T210000
DTEND;TZID=UTC:20241214T040000
DTSTAMP:20260425T123345
CREATED:20241104T230048Z
LAST-MODIFIED:20241104T230525Z
UID:27292-1734123600-1734148800@321eventhub.com
SUMMARY:DECADE OF DESIRE -The Fabulous 50s
DESCRIPTION:Ready to Rock ‘n’ Roll Like It’s 1955? \nIt’s jukebox hits and leather jackets at this rockin’ 50s bash!\nDo you have what it takes to own the dance floor with your best twist moves or greaser style?\nLet’s rock the night away! \nDress Code: Rockabilly chic\, polka dots\, and leather.
URL:https://321eventhub.com/event/decade-of-desire-the-fabulous-50s/
LOCATION:TriStone Hotel and Apartment Beach Resort\, Raliatu Olorunfunmike st\,aja\,okun\, Abraham Adesanya\, Lagos\, Nigeria
ATTACH;FMTTYPE=image/jpeg:https://321eventhub.com/wp-content/uploads/2024/11/1814c28e-c198-4095-8ecb-4aab3f98c87a.jpg
END:VEVENT
BEGIN:VEVENT
DTSTART;TZID=UTC:20241207T210000
DTEND;TZID=UTC:20241208T160000
DTSTAMP:20260425T123345
CREATED:20241104T224402Z
LAST-MODIFIED:20241104T230351Z
UID:27284-1733605200-1733673600@321eventhub.com
SUMMARY:DECADE OF DESIRE -The Swinging 30s & 40s
DESCRIPTION:Can You Swing Into the Golden Age? \nHollywood glamour and wartime swing collide for a dazzling night. \nWill you channel a classic film star or dance like it’s wartime glory? \nThis one’s for the vintage lovers ready to sway and shine. \n  \nDress Code: Tuxedos\, evening gowns\, vintage uniforms.
URL:https://321eventhub.com/event/decade-of-desire-the-swinging-30s-40s/
LOCATION:TriStone Hotel and Apartment Beach Resort\, Raliatu Olorunfunmike st\,aja\,okun\, Abraham Adesanya\, Lagos\, Nigeria
ATTACH;FMTTYPE=image/jpeg:https://321eventhub.com/wp-content/uploads/2024/11/00ce09a3-1656-4511-b3be-044edab9e55d.jpg
ORGANIZER;CN="3SOME.ENT":MAILTO:t3some.entertainment@gmail.com
END:VEVENT
BEGIN:VEVENT
DTSTART;TZID=UTC:20241206T210000
DTEND;TZID=UTC:20241207T040000
DTSTAMP:20260425T123345
CREATED:20241103T111553Z
LAST-MODIFIED:20241104T230249Z
UID:27266-1733518800-1733544000@321eventhub.com
SUMMARY:DECADE OF DESIRE -The Roaring 20s
DESCRIPTION:Ready to Roar in 1920s Style? \nStep into the glitz\, glamour\, and jazz of the Roaring 20s!\nPicture yourself at a speakeasy\, surrounded by flappers\, pearls\, and vintage charm.\nAre you ready for an unforgettable night of Gatsby vibes and elegance? \nDress Code: Flapper dresses\, suspenders\, pearls\, and fedoras.
URL:https://321eventhub.com/event/decade-of-desire-the-roaring-20s/
LOCATION:TriStone Hotel and Apartment Beach Resort\, Raliatu Olorunfunmike st\,aja\,okun\, Abraham Adesanya\, Lagos\, Nigeria
CATEGORIES:Decade-Party
ATTACH;FMTTYPE=image/jpeg:https://321eventhub.com/wp-content/uploads/2024/11/41779a3f-1def-404c-96c0-c908f26594c2.jpg
ORGANIZER;CN="3SOME.ENT":MAILTO:t3some.entertainment@gmail.com
END:VEVENT
BEGIN:VEVENT
DTSTART;TZID=UTC:20240713T200000
DTEND;TZID=UTC:20240713T233000
DTSTAMP:20260425T123345
CREATED:20240711T130552Z
LAST-MODIFIED:20240711T130552Z
UID:27207-1720900800-1720913400@321eventhub.com
SUMMARY:3Some Opening Party
DESCRIPTION:This is the opening Party for 3some Entertainment
URL:https://321eventhub.com/event/3some-opening-party/
LOCATION:BlueSea Hotel \,Lounge and Apartment\, 1\, Cocoa Industry Ltd\, Via\, Akilo Ikeja\, Lagos\, Lagos\, 101233\, Nigeria
CATEGORIES:BlockParty
ATTACH;FMTTYPE=image/jpeg:https://321eventhub.com/wp-content/uploads/2021/10/drinks-blog-img-2.jpg
ORGANIZER;CN="3SOME.ENT":MAILTO:t3some.entertainment@gmail.com
END:VEVENT
END:VCALENDAR